BEGIN:VCALENDAR
VERSION:2.0
PRODID:icalendar-ruby
CALSCALE:GREGORIAN
METHOD:PUBLISH
BEGIN:VEVENT
DTSTAMP:20260420T022522Z
UID:16-506474@legacychurchpcg.com
DTSTART:20260625T000000Z
DTEND:20260625T010000Z
CLASS:PUBLIC
CREATED:20260419T211040
DESCRIPTION:
LAST-MODIFIED:20260419T211040
LOCATION:Legacy Church PCG
SUMMARY:Wednesday Night Service
URL;VALUE=URI:https://legacychurchpcg.com/events/wednesday-night-service--1
 6/2026-06-24
ATTACH;FILENAME=524356017_18079973428928189_2534375059636642172_n.jpg;FMTTY
 PE=image/jpeg:https://dq5pwpg1q8ru0.cloudfront.net/2025/12/31/22/37/52/f06
 bde12-151d-429d-9bf9-af04f52038c4/524356017_18079973428928189_253437505963
 6642172_n.jpg
END:VEVENT
END:VCALENDAR
